BEGIN:VCALENDAR
VERSION:2.0
PRODID:icalendar-ruby
CALSCALE:GREGORIAN
BEGIN:VEVENT
DTSTAMP:20260420T224604Z
UID:21ed9add-189a-4547-8599-80de07d3d40f
DTSTART;VALUE=DATE:20201022
DESCRIPTION:Property ID# 491954\, Locatoin: Harcourts\, 516 High St\, Lower
  Hutt\, Time: 2:00PM
SUMMARY:Auction for 
END:VEVENT
END:VCALENDAR
